BEGIN:VCALENDAR
VERSION:2.0
PRODID:gruene-dahme-spreewald.de
METHOD:PUBLISH
BEGIN:VTIMEZONE
TZID:Europe/Berlin
X-LIC-LOCATION:Europe/Berlin
BEGIN:DAYLIGHT
TZOFFSETFROM:+0100
TZOFFSETTO:+0200
TZNAME:CEST
DTSTART:19700329T020000
RRULE:FREQ=YEARLY;INTERVAL=1;BYDAY=-1SU;BYMONTH=3
END:DAYLIGHT
BEGIN:STANDARD
TZOFFSETFROM:+0200
TZOFFSETTO:+0100
TZNAME:CET
DTSTART:19701025T030000
RRULE:FREQ=YEARLY;INTERVAL=1;BYDAY=-1SU;BYMONTH=10
END:STANDARD
END:VTIMEZONE
BEGIN:VEVENT
UID:5354a0e31a10ffefbf89d27fb71bef4b@gruene-dahme-spreewald.de
URL;VALUE=URI:https://gruene-dahme-spreewald.de/blog/termine/zews-treffen
 /
LOCATION:
SUMMARY:ZEWS Treffen
DESCRIPTION;ALTREP="data:text/html,%0A%3Cp%3EAm%20Freitag%2C%20den%2002.0
 9.22%20um%2019%3A30%20treffen%20wir%20uns%20ausnahmsweise%20via%20Zoom%2C
 %20da%20auch%20Vertreter%2Ainnen%20aus%20KW%20anwesend%20sein%20werden%2C
 %20um%20unsere%20Aktion%20zu%20planen.%20Das%20n%C3%A4chste%20Mal%20treff
 en%20wir%20uns%20dann%20wieder%20in%20Pr%C3%A4senz.%20%3C%2Fp%3E%0A":Am F
 reitag\, den 02.09.22 um 19:30 treffen wir uns ausnahmsweise via Zoom\, d
 a auch Vertreter*innen aus KW anwesend sein werden\, um unsere Aktion zu 
 planen. Das nächste Mal treffen wir uns dann wieder in Präsenz.
CLASS:PUBLIC
DTSTART;TZID=Europe/Berlin:20220902T193000
DTEND;TZID=Europe/Berlin:20220902T210000
DTSTAMP:20260421T153100
END:VEVENT
END:VCALENDAR