BEGIN:VCALENDAR
VERSION:2.0
PRODID:gruene-dahme-spreewald.de
METHOD:PUBLISH
BEGIN:VTIMEZONE
TZID:Europe/Berlin
X-LIC-LOCATION:Europe/Berlin
BEGIN:DAYLIGHT
TZOFFSETFROM:+0100
TZOFFSETTO:+0200
TZNAME:CEST
DTSTART:19700329T020000
RRULE:FREQ=YEARLY;INTERVAL=1;BYDAY=-1SU;BYMONTH=3
END:DAYLIGHT
BEGIN:STANDARD
TZOFFSETFROM:+0200
TZOFFSETTO:+0100
TZNAME:CET
DTSTART:19701025T030000
RRULE:FREQ=YEARLY;INTERVAL=1;BYDAY=-1SU;BYMONTH=10
END:STANDARD
END:VTIMEZONE
BEGIN:VEVENT
UID:713b4ab69bf01372140f17616fa97d32@gruene-dahme-spreewald.de
URL;VALUE=URI:https://gruene-dahme-spreewald.de/blog/termine/oder-konfere
 nz-der-buendnisgruenen-fraktion/
LOCATION:Kleist-Forum, Platz der Einhait 1, 15230 Frankfurt (Oder)
SUMMARY:Oder Konferenz der Bündnisgrünen Fraktion
DESCRIPTION;ALTREP="data:text/html,%0A%3Cp%3EAm%20Montag%2C%20dem%2027.03
 .2023%20veranstaltet%20die%20Fraktion%20B%C3%9CNDNIS%2090%2FDIE%20GR%C3%9
 CNEN%20eine%20gro%C3%9Fe%20Oderkonferenz%20in%20Frankfurt%20%28Oder%29.%2
 0Dabei%20sollen%20gemeinsam%20mit%20Expertinnen%20und%20Experten%20aus%20
 der%20Wissenschaft%2C%20Politik%20und%20Zivilgesellschaft%20auf%20Deutsch
 land%20und%20Polen%20notwendige%20Schritte%20und%20Konzepte%20erarbeitet%
 20und%20diskutiert%20werden%2C%20um%20eine%20erneute%20Umweltkatastrophe%
 20in%20diesem%20Sommer%20zu%20verhindern%20und%20den%20Oderausbau%20kriti
 sch%20zu%20beleuchten.%3C%2Fp%3E%0A%0A%0A%0A%3Cp%3EDie%20Umweltkatastroph
 e%202022%20hat%20deutlich%20gemacht%2C%20dass%20es%20neben%20der%20Ursach
 enbek%C3%A4mpfung%20auch%20die%20Notwendigkeit%20gibt%2C%20die%20Oder%20i
 n%20ihrer%20Widerstandsf%C3%A4higkeit%20gegen%C3%BCber%20dem%20Klimawande
 l%20zu%20st%C3%A4rken.%20Daf%C3%BCr%20ist%20es%20n%C3%B6tig%2C%20bestehen
 de%20wirtschafts-%20und%20verkehrspolitische%20Nutzungskonzepte%20kritisc
 h%20zu%20hinterfragen.%20Dabei%20gilt%20es%2C%20Fluss%C3%B6kologie%20und%
 20Hochwasserschutz%20in%20den%20Fokus%20zu%20r%C3%BCcken.%3C%2Fp%3E%0A":A
 m Montag\, dem 27.03.2023 veranstaltet die Fraktion BÜNDNIS 90/DIE GRÜN
 EN eine große Oderkonferenz in Frankfurt (Oder). Dabei sollen gemeinsam 
 mit Expertinnen und Experten aus der Wissenschaft\, Politik und Zivilgese
 llschaft auf Deutschland und Polen notwendige Schritte und Konzepte erarb
 eitet und diskutiert werden\, um eine erneute Umweltkatastrophe in diesem
  Sommer zu verhindern und den Oderausbau kritisch zu beleuchten.\n\nDie U
 mweltkatastrophe 2022 hat deutlich gemacht\, dass es neben der Ursachenbe
 kämpfung auch die Notwendigkeit gibt\, die Oder in ihrer Widerstandsfäh
 igkeit gegenüber dem Klimawandel zu stärken. Dafür ist es nötig\, bes
 tehende wirtschafts- und verkehrspolitische Nutzungskonzepte kritisch zu 
 hinterfragen. Dabei gilt es\, Flussökologie und Hochwasserschutz in den 
 Fokus zu rücken.
CLASS:PUBLIC
DTSTART;TZID=Europe/Berlin:20230327T093000
DTEND;TZID=Europe/Berlin:20230327T163000
DTSTAMP:20260421T060227
END:VEVENT
END:VCALENDAR