BEGIN:VCALENDAR
VERSION:2.0
PRODID:gruene-dahme-spreewald.de
METHOD:PUBLISH
BEGIN:VTIMEZONE
TZID:Europe/Berlin
X-LIC-LOCATION:Europe/Berlin
BEGIN:DAYLIGHT
TZOFFSETFROM:+0100
TZOFFSETTO:+0200
TZNAME:CEST
DTSTART:19700329T020000
RRULE:FREQ=YEARLY;INTERVAL=1;BYDAY=-1SU;BYMONTH=3
END:DAYLIGHT
BEGIN:STANDARD
TZOFFSETFROM:+0200
TZOFFSETTO:+0100
TZNAME:CET
DTSTART:19701025T030000
RRULE:FREQ=YEARLY;INTERVAL=1;BYDAY=-1SU;BYMONTH=10
END:STANDARD
END:VTIMEZONE
BEGIN:VEVENT
UID:2c9d2a87f82fccc3719a0fd73d2a8791@gruene-dahme-spreewald.de
URL;VALUE=URI:https://gruene-dahme-spreewald.de/blog/termine/laermspazier
 gang-koenigs-wusterhausen/
LOCATION:Cottbuser Str. 34, 15711 Königs Wusterhausen
SUMMARY:Lärmspaziergang Königs Wusterhausen
DESCRIPTION;ALTREP="data:text/html,%3Cp%3ELiebe%20Interessierte%2C%3Cbr%2
 0%2F%3E%0AL%C3%A4rm%20betrift%20uns%20alle%20%E2%80%93%20sei%20es%20durch
 %20Stra%C3%9Fenverkehr%2C%20Gewerbe%20oder%20Alltagsaktivit%C3%A4ten.%20U
 m%3Cbr%20%2F%3E%0Adas%20Thema%20ganz%20konkret%20zu%20erleben%2C%20laden%
 20wir%20zu%20einem%20L%C3%A4rmspaziergang%20ein%3Cbr%20%2F%3E%0A%28Messun
 gen%20mit%20einem%20Schallpegelmessger%C3%A4t%29.%20Gemeinsam%20wollen%20
 wir%20unterschiedliche%3Cbr%20%2F%3E%0AGer%C3%A4uschquellen%20in%20der%20
 besonders%20von%20L%C3%A4rm%20belasteten%20Innenstadt%20von%20K%C3%B6nigs
 %3Cbr%20%2F%3E%0AWusterhausen%20erkunden%20und%20vor%20Ort%20deren%20Laut
 st%C3%A4rke%20erfassen.%3Cbr%20%2F%3E%0A%3Cbr%20%2F%3E%0AIm%20Anschluss%2
 0m%C3%B6chten%20wir%20mit%20gerne%20in%20eine%20gemeinsame%20Diskussion%2
 0zu%3Cbr%20%2F%3E%0AM%C3%B6glichkeiten%20der%20L%C3%A4rmreduktion%20eintr
 eten.%20Dabei%20betrachten%20wir%20konkrete%20Ans%C3%A4tze%3Cbr%20%2F%3E%
 0Aaus%20der%20Stra%C3%9Fenverkehrsordnung%20%28StVO%29%20sowie%20aus%20de
 m%20von%20der%20Stadt%20im%20Oktober%202024%3Cbr%20%2F%3E%0Abeschlossenen
 %20L%C3%A4rmaktionsplan%20und%20er%C3%B6rtern%2C%20welche%20Ma%C3%9Fnahme
 n%20lokal%20sinnvoll%20und%3Cbr%20%2F%3E%0Aumsetzbar%20sind%20%E2%80%93%2
 0insbesondere%20im%20Hinblick%20auf%20den%20Schutz%20sensibler%20Bereiche
 %20wie%3Cbr%20%2F%3E%0AWohngebiete%20und%20Kitas.%3Cbr%20%2F%3E%0A%3Cbr%2
 0%2F%3E%0ATreffpunkt%3A%20Cottbuser%20Str.%2034%20%28Fahrrad%20K%C3%B6nig
 %29%3Cbr%20%2F%3E%0ADatum%20und%20Uhrzeit%3A%2030.04.2026%2C%2016.30%20Uh
 r%3Cbr%20%2F%3E%0ADauer%3A%20ca.%201h%3Cbr%20%2F%3E%0ADiskussion%3A%20ab%
 20ca.%2017.30%20Uhr%2C%20Rathaus%3Cbr%20%2F%3E%0A%3Cbr%20%2F%3E%0ABringt%
 20gerne%20ein%20Smartphone%20mit%20L%C3%A4rmmess-App%20oder%20ein%20Messg
 er%C3%A4t%20mit.%20Wir%3Cbr%20%2F%3E%0Afreuen%20uns%20auf%20Eure%20Teilna
 hme%20und%20den%20gemeinsamen%20Austausch%21%3Cbr%20%2F%3E%0A%3Cbr%20%2F%
 3E%0AFraktion%20B%C3%BCndnis%2090%20%2F%20Die%20Gr%C3%BCnen%3C%2Fp%3E":Li
 ebe Interessierte\,\n\nLärm betrift uns alle – sei es durch Straßenve
 rkehr\, Gewerbe oder Alltagsaktivitäten. Um\n\ndas Thema ganz konkret zu
  erleben\, laden wir zu einem Lärmspaziergang ein\n\n(Messungen mit eine
 m Schallpegelmessgerät). Gemeinsam wollen wir unterschiedliche\n\nGeräu
 schquellen in der besonders von Lärm belasteten Innenstadt von Königs\n
 \nWusterhausen erkunden und vor Ort deren Lautstärke erfassen.\n\nIm Ans
 chluss möchten wir mit gerne in eine gemeinsame Diskussion zu\n\nMöglic
 hkeiten der Lärmreduktion eintreten. Dabei betrachten wir konkrete Ansä
 tze\n\naus der Straßenverkehrsordnung (StVO) sowie aus dem von der Stadt
  im Oktober 2024\n\nbeschlossenen Lärmaktionsplan und erörtern\, welche
  Maßnahmen lokal sinnvoll und\n\numsetzbar sind – insbesondere im Hinb
 lick auf den Schutz sensibler Bereiche wie\n\nWohngebiete und Kitas.\n\nT
 reffpunkt: Cottbuser Str. 34 (Fahrrad König)\n\nDatum und Uhrzeit: 30.04
 .2026\, 16.30 Uhr\n\nDauer: ca. 1h\n\nDiskussion: ab ca. 17.30 Uhr\, Rath
 aus\n\nBringt gerne ein Smartphone mit Lärmmess-App oder ein Messgerät 
 mit. Wir\n\nfreuen uns auf Eure Teilnahme und den gemeinsamen Austausch!\
 n\nFraktion Bündnis 90 / Die Grünen
CLASS:PUBLIC
DTSTART;TZID=Europe/Berlin:20260430T163000
DTEND;TZID=Europe/Berlin:20260430T183000
DTSTAMP:20260424T143938
END:VEVENT
END:VCALENDAR