BEGIN:VCALENDAR
VERSION:2.0
PRODID:gruene-dahme-spreewald.de
METHOD:PUBLISH
BEGIN:VTIMEZONE
TZID:Europe/Berlin
X-LIC-LOCATION:Europe/Berlin
BEGIN:DAYLIGHT
TZOFFSETFROM:+0100
TZOFFSETTO:+0200
TZNAME:CEST
DTSTART:19700329T020000
RRULE:FREQ=YEARLY;INTERVAL=1;BYDAY=-1SU;BYMONTH=3
END:DAYLIGHT
BEGIN:STANDARD
TZOFFSETFROM:+0200
TZOFFSETTO:+0100
TZNAME:CET
DTSTART:19701025T030000
RRULE:FREQ=YEARLY;INTERVAL=1;BYDAY=-1SU;BYMONTH=10
END:STANDARD
END:VTIMEZONE
BEGIN:VEVENT
UID:af5e34d28c3c1748039aa7fb13408146@gruene-dahme-spreewald.de
URL;VALUE=URI:https://gruene-dahme-spreewald.de/blog/termine/kreismitglie
 derversammlung/
LOCATION:
SUMMARY:Kreismitgliederversammlung
DESCRIPTION;ALTREP="data:text/html,%0A%3Cp%3EDie%20Mitgliederversammlung%
 20entf%C3%A4llt%20wegen%20zu%20viel%20Urlaub%20%3A-%29%3C%2Fp%3E%0A%0A%0A
 %0A%3Cp%3E4.%20Kreismitgliederversammlung%202022.%20%20Die%20Tagesordnung
 %20geht%20euch%20rechtzeitig%20per%20Mail%20zu.%20%3C%2Fp%3E%0A":Die Mitg
 liederversammlung entfällt wegen zu viel Urlaub :-)\n\n4. Kreismitgliede
 rversammlung 2022.  Die Tagesordnung geht euch rechtzeitig per Mail zu.
CLASS:PUBLIC
DTSTART;TZID=Europe/Berlin:20220824T190000
DTEND;TZID=Europe/Berlin:20220824T220000
DTSTAMP:20260423T080318
END:VEVENT
END:VCALENDAR