BEGIN:VCALENDAR
VERSION:2.0
PRODID:gruene-dahme-spreewald.de
METHOD:PUBLISH
BEGIN:VTIMEZONE
TZID:Europe/Berlin
X-LIC-LOCATION:Europe/Berlin
BEGIN:DAYLIGHT
TZOFFSETFROM:+0100
TZOFFSETTO:+0200
TZNAME:CEST
DTSTART:19700329T020000
RRULE:FREQ=YEARLY;INTERVAL=1;BYDAY=-1SU;BYMONTH=3
END:DAYLIGHT
BEGIN:STANDARD
TZOFFSETFROM:+0200
TZOFFSETTO:+0100
TZNAME:CET
DTSTART:19701025T030000
RRULE:FREQ=YEARLY;INTERVAL=1;BYDAY=-1SU;BYMONTH=10
END:STANDARD
END:VTIMEZONE
BEGIN:VEVENT
UID:8d54ecc8290d27443537913d478155fd@gruene-dahme-spreewald.de
URL;VALUE=URI:https://gruene-dahme-spreewald.de/blog/termine/kmv-im-norde
 n/
LOCATION:MdB Büro Andrea Lübcke, Bahnhofstr. 7b, 15711 KW
SUMMARY:KMV im Norden
DESCRIPTION;ALTREP="data:text/html,%3Cp%3EWir%20treffen%20uns%20wieder%20
 im%20B%C3%BCro%20von%20Andrea%20L%C3%BCbcke.%20%3C%2Fp%3E":Wir treffen un
 s wieder im Büro von Andrea Lübcke.
CLASS:PUBLIC
DTSTART;TZID=Europe/Berlin:20260617T183000
DTEND;TZID=Europe/Berlin:20260617T220000
DTSTAMP:20260423T143521
END:VEVENT
END:VCALENDAR