BEGIN:VCALENDAR
VERSION:2.0
PRODID:gruene-dahme-spreewald.de
METHOD:PUBLISH
BEGIN:VTIMEZONE
TZID:Europe/Berlin
X-LIC-LOCATION:Europe/Berlin
BEGIN:DAYLIGHT
TZOFFSETFROM:+0100
TZOFFSETTO:+0200
TZNAME:CEST
DTSTART:19700329T020000
RRULE:FREQ=YEARLY;INTERVAL=1;BYDAY=-1SU;BYMONTH=3
END:DAYLIGHT
BEGIN:STANDARD
TZOFFSETFROM:+0200
TZOFFSETTO:+0100
TZNAME:CET
DTSTART:19701025T030000
RRULE:FREQ=YEARLY;INTERVAL=1;BYDAY=-1SU;BYMONTH=10
END:STANDARD
END:VTIMEZONE
BEGIN:VEVENT
UID:5033e4a6b9e79ffb254afe4ee534a880@gruene-dahme-spreewald.de
URL;VALUE=URI:https://gruene-zews.de/termine/gruener-stammtisch/
LOCATION:Anglerverein Wildau, Friedrich-Engels-Straße 9a, Wildau
SUMMARY:GRÜNER Stammtisch
DESCRIPTION;ALTREP="data:text/html,%3Cp%3EWir%20freuen%20uns%2C%20mit%20E
 uch%20beim%20GR%C3%9CNEN%20Stammtisch%20in%20Wildau%20ins%20Gespr%C3%A4ch
 %20zu%20kommen.%20Wir%20m%C3%B6chten%20mit%20Euch%20%C3%BCber%20unsere%20
 Politik%20in%20Zeuthen%2C%20Eichwalde%2C%20Wildau%20und%20Schulzendorf%20
 reden%20und%20-%20ganz%20wichtig%20-%20wissen%2C%20welche%20Themen%20f%C3
 %BCr%20Euch%20besonders%20wichtig%20sind.%20Kommt%20vorbei%21%3Cbr%20%2F%
 3E%0A%3Cbr%20%2F%3E%0AWir%20wollen%20uns%20regelm%C3%A4%C3%9Fig%20in%20di
 esem%20Format%20mit%20Euch%20treffen.%20Wir%20waren%20schon%20in%20Zeuthe
 n%20und%20Eichwalde%2C%20kommen%20jetzt%20nach%20Wildau%20und%20werden%20
 auch%20noch%20in%20Schulzendorf%20Station%20machen.%3C%2Fp%3E%3Cp%3E%3Ca%
 20href%3D%22https%3A%2F%2Fgruene-zews.de%2Ftermine%2Fgruener-stammtisch%2
 F%22%20title%3D%22Link%20in%20einem%20neuen%20Tab%20%C3%B6ffnen%22%20targ
 et%3D%22_blank%22%3EWeitere%20Informationen%26nbsp%3B%3Ci%20class%3D%22fa
 -solid%20fa-up-right-from-square%22%3E%3C%2Fi%3E%3C%2Fa%3E%3C%2Fp%3E":Wir
  freuen uns\, mit Euch beim GRÜNEN Stammtisch in Wildau ins Gespräch zu
  kommen. Wir möchten mit Euch über unsere Politik in Zeuthen\, Eichwald
 e\, Wildau und Schulzendorf reden und - ganz wichtig - wissen\, welche Th
 emen für Euch besonders wichtig sind. Kommt vorbei!\n\nWir wollen uns re
 gelmäßig in diesem Format mit Euch treffen. Wir waren schon in Zeuthen 
 und Eichwalde\, kommen jetzt nach Wildau und werden auch noch in Schulzen
 dorf Station machen.Weitere Informationen 
CLASS:PUBLIC
DTSTART;TZID=Europe/Berlin:20260423T190000
DTEND;TZID=Europe/Berlin:20260423T220000
DTSTAMP:20260421T125047
END:VEVENT
END:VCALENDAR