BEGIN:VCALENDAR
VERSION:2.0
PRODID:gruene-dahme-spreewald.de
METHOD:PUBLISH
BEGIN:VTIMEZONE
TZID:Europe/Berlin
X-LIC-LOCATION:Europe/Berlin
BEGIN:DAYLIGHT
TZOFFSETFROM:+0100
TZOFFSETTO:+0200
TZNAME:CEST
DTSTART:19700329T020000
RRULE:FREQ=YEARLY;INTERVAL=1;BYDAY=-1SU;BYMONTH=3
END:DAYLIGHT
BEGIN:STANDARD
TZOFFSETFROM:+0200
TZOFFSETTO:+0100
TZNAME:CET
DTSTART:19701025T030000
RRULE:FREQ=YEARLY;INTERVAL=1;BYDAY=-1SU;BYMONTH=10
END:STANDARD
END:VTIMEZONE
BEGIN:VEVENT
UID:60e51a553cfd82d02e0f8655a7d11880@gruene-dahme-spreewald.de
URL;VALUE=URI:https://gruene-dahme-spreewald.de/blog/termine/csd-golssen/
LOCATION:Marktplatz
SUMMARY:CSD Golßen
DESCRIPTION;ALTREP="data:text/html,%3Cp%3EStart%2013%20Uhr%20Parkplatz%20
 gegen%C3%BCber%20Penny.%3Cbr%20%2F%3E%0AAb%2015h%20Fest%20der%20Vielfalt%
 20auf%20dem%20Marktplatz%3C%2Fp%3E":Start 13 Uhr Parkplatz gegenüber Pen
 ny.\n\nAb 15h Fest der Vielfalt auf dem Marktplatz
CLASS:PUBLIC
DTSTART;TZID=Europe/Berlin:20260620T130000
DTEND;TZID=Europe/Berlin:20260620T200000
DTSTAMP:20260422T063157
END:VEVENT
END:VCALENDAR