BEGIN:VCALENDAR
VERSION:2.0
PRODID:gruene-dahme-spreewald.de
METHOD:PUBLISH
BEGIN:VTIMEZONE
TZID:Europe/Berlin
X-LIC-LOCATION:Europe/Berlin
BEGIN:DAYLIGHT
TZOFFSETFROM:+0100
TZOFFSETTO:+0200
TZNAME:CEST
DTSTART:19700329T020000
RRULE:FREQ=YEARLY;INTERVAL=1;BYDAY=-1SU;BYMONTH=3
END:DAYLIGHT
BEGIN:STANDARD
TZOFFSETFROM:+0200
TZOFFSETTO:+0100
TZNAME:CET
DTSTART:19701025T030000
RRULE:FREQ=YEARLY;INTERVAL=1;BYDAY=-1SU;BYMONTH=10
END:STANDARD
END:VTIMEZONE
BEGIN:VEVENT
UID:44490d35c10882fafa38bec54c86d7d1@gruene-dahme-spreewald.de
URL;VALUE=URI:https://gruene-dahme-spreewald.de/blog/termine/buergerdialo
 g-in-luckau/
LOCATION:Schlossberg Luckau, Nordpromenade 20, Luckau
SUMMARY:Bürgerdialog in Luckau
DESCRIPTION;ALTREP="data:text/html,%0A%3Cp%3EDie%20B%C3%BCrgerdialoge%20f
 inden%20in%20allen%2014%20Landkreisen%20und%20den%20vier%20kreisfreien%20
 St%C3%A4dten%20statt.%20Die%20Gespr%C3%A4chsrunden%20sind%20%3Cstrong%3Ef
 %C3%BCr%20alle%20Interessierten%20offen%3C%2Fstrong%3E%2C%20die%20Fragen%
 20stellen%2C%20diskutieren%20oder%20einfach%20nur%20zuh%C3%B6ren%20m%C3%B
 6chten.%20Bisher%20waren%20fast%20immer%20auch%20beide%20gr%C3%BCnen%20Mi
 nister%20vor%20Ort%20dabei%20%E2%80%93%20f%C3%BCr%20Ursula%20ist%20unsere
 %20Staatssekret%C3%A4rin%20Antje%20T%C3%B6pfer%20dabei.%20Anmeldung%20ist
 %20nicht%20erforderlich.%20%3Ca%20href%3D%22https%3A%2F%2Fgruene-dahme-sp
 reewald.de%2F2023%2F02%2F23%2Fzur-sache-brandenburg-woidke-laedt-zum-buer
 gerdialog-in-luckau%2F%22%3EZur%20Pressemeldung%20dazu%3C%2Fa%3E.%3C%2Fp%
 3E%0A":Die Bürgerdialoge finden in allen 14 Landkreisen und den vier kre
 isfreien Städten statt. Die Gesprächsrunden sind für alle Interessiert
 en offen\, die Fragen stellen\, diskutieren oder einfach nur zuhören mö
 chten. Bisher waren fast immer auch beide grünen Minister vor Ort dabei 
 – für Ursula ist unsere Staatssekretärin Antje Töpfer dabei. Anmeldu
 ng ist nicht erforderlich. Zur Pressemeldung dazu.
CLASS:PUBLIC
DTSTART;TZID=Europe/Berlin:20230228T180000
DTEND;TZID=Europe/Berlin:20230228T210000
DTSTAMP:20260424T170221
END:VEVENT
END:VCALENDAR